Package: ComplexHeatmap Version: 2.27.0 Maintainer: Zuguang Gu MaintainerEmail: z.gu at dkfz.de git_url: https://git.bioconductor.org/packages/ComplexHeatmap git_branch: devel git_last_commit: 4b45578 git_last_commit_date: 2025-10-29 10:25:04 -0400 (Wed, 29 Oct 2025)