Package: CNEr Version: 1.47.0 Maintainer: Boris Lenhard Damir Baranasic MaintainerEmail: damir.baranasic at lms.mrc.ac.uk git_url: https://git.bioconductor.org/packages/CNEr git_branch: devel git_last_commit: 4d7f8ce git_last_commit_date: 2025-10-29 10:18:00 -0400 (Wed, 29 Oct 2025)