Package: BumpyMatrix Version: 1.19.0 Command: /home/rapidbuild/bbs-3.22-bioc-rapid/R/bin/R CMD check --install=check:BumpyMatrix.install-out.txt --library=/home/rapidbuild/bbs-3.22-bioc-rapid/R/site-library --timings BumpyMatrix_1.19.0.tar.gz StartedAt: 2025-10-30 13:21:36 -0400 (Thu, 30 Oct 2025) EndedAt: 2025-10-30 13:22:47 -0400 (Thu, 30 Oct 2025) EllapsedTime: 71.4 seconds RetCode: 0 Status: OK CheckDir: BumpyMatrix.Rcheck Warnings: 0