Package: Biostrings Version: 2.79.0 Command: /home/rapidbuild/bbs-3.22-bioc-rapid/R/bin/R CMD check --install=check:Biostrings.install-out.txt --library=/home/rapidbuild/bbs-3.22-bioc-rapid/R/site-library --timings Biostrings_2.79.0.tar.gz StartedAt: 2025-10-30 13:21:32 -0400 (Thu, 30 Oct 2025) EndedAt: 2025-10-30 13:21:36 -0400 (Thu, 30 Oct 2025) EllapsedTime: 4.0 seconds RetCode: 1 Status: ERROR CheckDir: Biostrings.Rcheck Warnings: NA