Package: BiocVersion Version: 3.23.1 Command: /home/rapidbuild/bbs-3.22-bioc-rapid/R/bin/R CMD INSTALL BiocVersion StartedAt: 2025-10-30 12:04:18 -0400 (Thu, 30 Oct 2025) EndedAt: 2025-10-30 12:04:19 -0400 (Thu, 30 Oct 2025) EllapsedTime: 1.0 seconds RetCode: 1 Status: ERROR