Package: BiocVersion Version: 3.23.1 Command: /home/rapidbuild/bbs-3.22-bioc-rapid/R/bin/R CMD build --keep-empty-dirs --no-resave-data BiocVersion StartedAt: 2025-10-30 12:28:37 -0400 (Thu, 30 Oct 2025) EndedAt: 2025-10-30 12:28:38 -0400 (Thu, 30 Oct 2025) EllapsedTime: 1.0 seconds RetCode: 0 Status: OK PackageFile: BiocVersion_3.23.1.tar.gz PackageFileSize: 992 bytes