Package: BiocVersion Version: 3.23.1 Maintainer: Bioconductor Package Maintainer MaintainerEmail: maintainer at bioconductor.org git_url: https://git.bioconductor.org/packages/BiocVersion git_branch: devel git_last_commit: 252d7c8 git_last_commit_date: 2025-10-30 11:29:14 -0400 (Thu, 30 Oct 2025)