Package: BiocIO Version: 1.21.0 Command: /home/rapidbuild/bbs-3.22-bioc-rapid/R/bin/R CMD INSTALL BiocIO StartedAt: 2025-10-30 12:07:42 -0400 (Thu, 30 Oct 2025) EndedAt: 2025-10-30 12:07:46 -0400 (Thu, 30 Oct 2025) EllapsedTime: 4.0 seconds RetCode: 0 Status: OK