Package: BiocIO Version: 1.21.0 Maintainer: Marcel Ramos MaintainerEmail: marcel.ramos at sph.cuny.edu git_url: https://git.bioconductor.org/packages/BiocIO git_branch: devel git_last_commit: 884e288 git_last_commit_date: 2025-10-29 11:01:39 -0400 (Wed, 29 Oct 2025)