Package: BiocGenerics Version: 0.57.0 Command: /home/rapidbuild/bbs-3.22-bioc-rapid/R/bin/R CMD INSTALL BiocGenerics StartedAt: 2025-10-30 12:07:21 -0400 (Thu, 30 Oct 2025) EndedAt: 2025-10-30 12:07:24 -0400 (Thu, 30 Oct 2025) EllapsedTime: 3.0 seconds RetCode: 0 Status: OK