Package: BiocGenerics Version: 0.57.0 Command: /home/rapidbuild/bbs-3.22-bioc-rapid/R/bin/R CMD check --install=check:BiocGenerics.install-out.txt --library=/home/rapidbuild/bbs-3.22-bioc-rapid/R/site-library --timings BiocGenerics_0.57.0.tar.gz StartedAt: 2025-10-30 13:19:18 -0400 (Thu, 30 Oct 2025) EndedAt: 2025-10-30 13:19:57 -0400 (Thu, 30 Oct 2025) EllapsedTime: 38.3 seconds RetCode: 0 Status: WARNINGS CheckDir: BiocGenerics.Rcheck Warnings: 1