Package: BiocGenerics Version: 0.57.0 Command: /home/rapidbuild/bbs-3.22-bioc-rapid/R/bin/R CMD build --keep-empty-dirs --no-resave-data BiocGenerics StartedAt: 2025-10-30 12:27:38 -0400 (Thu, 30 Oct 2025) EndedAt: 2025-10-30 12:27:39 -0400 (Thu, 30 Oct 2025) EllapsedTime: 1.0 seconds RetCode: 0 Status: OK PackageFile: BiocGenerics_0.57.0.tar.gz PackageFileSize: 55.46 KiB