Package: BiocFileCache Version: 3.1.0 Maintainer: Lori Shepherd MaintainerEmail: lori.shepherd at roswellpark.org git_url: https://git.bioconductor.org/packages/BiocFileCache git_branch: devel git_last_commit: c4f8ba6 git_last_commit_date: 2025-10-29 10:37:29 -0400 (Wed, 29 Oct 2025)