Package: BiocCheck Version: 1.47.0 Command: /home/rapidbuild/bbs-3.22-bioc-rapid/R/bin/R CMD INSTALL BiocCheck StartedAt: 2025-10-30 12:20:42 -0400 (Thu, 30 Oct 2025) EndedAt: 2025-10-30 12:20:50 -0400 (Thu, 30 Oct 2025) EllapsedTime: 8.0 seconds RetCode: 0 Status: OK