Package: BiocCheck Version: 1.47.0 Command: /home/rapidbuild/bbs-3.22-bioc-rapid/R/bin/R CMD check --install=check:BiocCheck.install-out.txt --library=/home/rapidbuild/bbs-3.22-bioc-rapid/R/site-library --timings BiocCheck_1.47.0.tar.gz StartedAt: 2025-10-30 13:18:56 -0400 (Thu, 30 Oct 2025) EndedAt: 2025-10-30 13:21:07 -0400 (Thu, 30 Oct 2025) EllapsedTime: 131.1 seconds RetCode: 0 Status: OK CheckDir: BiocCheck.Rcheck Warnings: 0