Package: BiocCheck Version: 1.47.0 Maintainer: Marcel Ramos MaintainerEmail: marcel.ramos at sph.cuny.edu git_url: https://git.bioconductor.org/packages/BiocCheck git_branch: devel git_last_commit: 09886ed git_last_commit_date: 2025-10-29 19:20:08 -0400 (Wed, 29 Oct 2025)