Package: BSgenome Version: 1.79.0 Maintainer: Hervé Pagès MaintainerEmail: hpages.on.github at gmail.com git_url: https://git.bioconductor.org/packages/BSgenome git_branch: devel git_last_commit: ed2fb58 git_last_commit_date: 2025-10-29 14:47:19 -0400 (Wed, 29 Oct 2025)