############################################################################## ############################################################################## ### ### Running command: ### ### /home/rapidbuild/bbs-3.22-bioc-rapid/R/bin/R CMD INSTALL AnnotationHubData ### ############################################################################## ############################################################################## * installing to library ‘/media/volume/teran2_disk/rapidbuild/bbs-3.22-bioc-rapid/R/site-library’ ERROR: dependencies ‘AnnotationHub’, ‘GenomicFeatures’, ‘rtracklayer’, ‘OrganismDbi’ are not available for package ‘AnnotationHubData’ Perhaps try a variation of: install.packages(c('AnnotationHub', 'GenomicFeatures', 'rtracklayer', 'OrganismDbi')) * removing ‘/media/volume/teran2_disk/rapidbuild/bbs-3.22-bioc-rapid/R/site-library/AnnotationHubData’