Package: biodbNci Version: 1.12.0 Command: /home/biocbuild/bbs-3.21-bioc/R/bin/R CMD check --test-dir=longtests --no-stop-on-test-error --no-codoc --no-examples --no-manual --ignore-vignettes --check-subdirs=no biodbNci_1.12.0.tar.gz StartedAt: 2025-10-11 16:02:30 -0400 (Sat, 11 Oct 2025) EndedAt: 2025-10-11 16:03:32 -0400 (Sat, 11 Oct 2025) EllapsedTime: 62.1 seconds RetCode: 1 Status: ERROR CheckDir: biodbNci.Rcheck Warnings: NA