Package: scviR Version: 1.10.0 Command: /home/biocbuild/bbs-3.22-bioc-gpu/R/bin/R CMD check --install=check:scviR.install-out.txt --library=/home/biocbuild/bbs-3.22-bioc-gpu/R/site-library --timings scviR_1.10.0.tar.gz StartedAt: 2025-11-02 01:11:27 -0500 (Sun, 02 Nov 2025) EndedAt: 2025-11-02 01:16:54 -0500 (Sun, 02 Nov 2025) EllapsedTime: 327.1 seconds RetCode: 0 Status: OK CheckDir: scviR.Rcheck Warnings: 0