Package: scviR Version: 1.10.0 Command: /home/biocbuild/bbs-3.22-bioc-gpu/R/bin/R CMD build --keep-empty-dirs --no-resave-data scviR StartedAt: 2025-11-02 01:56:20 -0400 (Sun, 02 Nov 2025) EndedAt: 2025-11-02 01:58:48 -0400 (Sun, 02 Nov 2025) EllapsedTime: 148.0 seconds RetCode: 0 Status: OK PackageFile: scviR_1.10.0.tar.gz PackageFileSize: 3.87 MiB