]Yw۸γL'Im%9QH;[m)p J@I,$V 0`jGfa?0F4-a֌ 5VG3^Mi`Oc:R{s{C٬?*^+ɿhZ=6p_bI ;x皰~;gF' ;^RmYr]g^`#'|ʏPq.]g6[!;.&1ewo}d/{P o摾ioF*^8ջ죏Styu|:袊VVVq/P #5`ZWPeyخVyu< թW prs ">|$jo+x oNy}$IDDOƧ#M~QOC¨Ͱ\;8_ш.qP" RG1 [CB䖰%jEihgF(qnxn̄?{X%т^A Ff[8М*CjƦi.ʜQgeÒV ?n΂w?~`9Qqx蠓QW+GxGW{P]*c sp =˰Ҭ2 5v{vuϥd`t9ρ2W ^#9 מ$ 8K}Ց1ȁ)~ &t(n쑼`u:4!*Mĵa\:eDeum/yT]o@c=zSe nB`rZ,,2i։o+E`KP?nZZ+rXzs(@S7RHiQWQuݒQNKEH-ި96Pcϰ^)EՔP.1.U*},IKY؃V".i]Sr)|r30"(V eJ9Z;~g (vPK~@ H5 EZ`cQ |(^OmR)6PLQxi(%{rZ d/#mpLFq]T,)IPḆF%2JhiX` r+7>]We?%%Cq7uTYkFH۠./.{i+K*<ÜҌ H18V#^@0'.]43S*GJނXz$Eb &u%͢&7j1@F5&MYP;QRn ÄQ(D)E /RLKS*~[+jr&%$*BS.So/J@I(ƔZEܸab'qJ"Xi.)ZnH^(`%\FxJu檈0rϣ8VHUQAliH(V-k%ZeǨEJ(dCo\uG]=..TC<⋙aQ:G/`kEg{eS#\%gE( ¤5ֺXu]gmb8cu/x"{{ЋA<&ɟӡzMFKmaŐ/q3|'J"J)i4Y|rrGkJ?"2$zK;p=(+5cv%?>AaDйŊnQ9bYR: ]ۄF='`E%h(\90L-K+};F9&B//*~*[ % +[WDqbIEr6Q۝G-Ŋu Urmв|{(DvP&t蠚mGXMrw\r8JC/m*_Vͨ5Z/eo vOl\lֺI%rSq[?G)'S%pņMMNߧ\McQT׭xf/6=~9i77w抷# ӖYϦ$JFV*ȦfvsK?+<}GI$4o) }w8ѦY0k IU>`47 @uQ 5>)Ks4 0j'Bo;C{qgm_g,_wK_|5 c+[tQݮm#-!(uH·L#Bo0hcF]6=oR{^ ?X+7-* I(8tt&!vlxF #3L|6+E,&R3#d#iZvy%v i0S_h͎xNOk8joZv; \2:_p+j 0B(;0It")}>mQv>HZ}0Ȇg ߜ$.t O;bG~E'90lp:`|ueg8tN;C# Ů,gd9}kml?n?`M4_`7Y6'nUl-Vj4+}+}ͥ]Wmab0nw\Z_o-n=a /oINEBn / D*Ql6v.ʯOh7҄MO{-f3ӄzFSFD,rDg_wȣA^w(Z`g1^bx&n>fE}m'A ؔnwF6!F|xiQC\mH!vFEm ح 6jfFSKl`3l`؛72m'PQ5SX?h%+#񃕑#^y<.xTa$3}EeD9 c UPL=&AoAݫQg:D]zrE.ZQNo(dU$UH!$Tu %~ktxO~ɤ91׶jx"PEI;1t7ޡkYCdCIr-ZhOg>J/[%N`sf&_{PE]w!}Amt6@ Zi2Gl;A:k>ŎbQD}t %bĈ7 `OžW̙Xy+" !7/ъ)AqOfpĿT(;}-vsۨ7JfR3t TV ߑ9ǟHlb`#膆!q4;^Jg0Jߴ֋#ar !V oXMj( NjkAHKAf.2b?xh9=Qt^޿.T׫OxAd$oRAMiRY)i XC$ovroM妒TjTcrbUnf:+V7-IπHx>ṃY_Kod 7./VsKWKU*D7v΢MSp+|,'4Nht] ʄ%i*}a"5幔9IU 7D,\٥#h^ ~ȽM$ (a]GJhؘO9OK(H !,Ѯp-0Nė0?)׀KAӒ–YhZ$oVMwYm]CڪErI|02D+̺ͷ'N <:8ioMOKn~w?=Y"DgWLKV',K?m5W4<6K㡡rWo_tUQdO!ԢJωmDA67+jjLTD1."/xݼB#033GDfaya2_ԃ]$j%h #sno<`2Ǚ]MvB7 ki qN$fӯOI{;I{%~ LOðzo{<y?AfhJ5s/q]oSRi)?,@}DևVx9|}.׼[/PP`/<{-xMC f^G$_tX@uՂq 10>)*yp8:ULjW q4 jA7v[v=i",؁w7&3)[\ $pgZ;T,wϠ:8sDui=LQ%d%!c{Yf UJZӊ > ܕ `u`fr'gAj X6y0Isc,MDŽ{)'rMairaYፎ!~&aWJZÎΊoYcL:PI?:ʖ`t3!1]8:7튴t Akt0Ql EiNXSJBY:!2,=Zqj*!RE{[V }oU|gJ,Ttը$}<;!^7]k*UX?;؈r/#ɵ| ḇo+khpؿ#Ai\s fJ2AzJPbNҔ|Bbz&&jEk+Л6_t4YX-F;Zh w޳qhjsz{&0ǕAF}Tb=az1)_ʚAh@(ՋEB5ͭ7 D[\c a}Ń oh6U.WVjȾ;)Sر8x_܀`V^֢PmY=JE2Z57Nl7C554޷K'{U6M/j{5mO7ͭK2;B)eQ ȳ82#W% Ys->g7_f|aeS奼SwSL뙘BuFqc"xŧctl36n@̙,6986:~F#c`ۤNf ~yQ,J8tJ0PF:8y# ;BSs75 k?<<:(:7CÐ|egWk6m߰1OƺFh9apw;TXth RԧAg4c.QCV.PōO7 ^Cm&(岚ĝCSʪZG)0V.k&3t gA=xy(ϳ?p ` /ès wC;)1G+d\,1@rѣ@#3Q+AhDG\I.oZ s(T+K:T qjy-X6Typ>5qX:P K#P>[s9mTykq猀_f@5IPSMKPx|lʼn {.*\cJ#ZoA4U m "ŜS7LEl)Ei0=CiM,d$oI)@Dorm֥[Opj*~ :rE-rD.q~do:1m^o GaF%GlɤĔkXTdC*[;==jCðhbQ!p@_.vljdz' lPG‚s ad%x,8~0g+Zjo أj s+g+.Zȼ/̲7r^|H G\! M.̽&yZ8iàqNKX].Kk] ւk [@23=7Guyk6U6;&|-gBy?K:+];b*'׹Zs&3m`RM󭜌*lM=x5Xh֨єK3ch4{נ=p>u˃^'ڤبRFdR2ul/L҄ՋJVWb[ ̼ktMC5︴po'38>LS;چF88[lj'θ*5a M5thCbb0R4%vdSn5X^2S"C'64 w|2aj#\64\JNyfG'g3:#TV7b)0N :*@:P(f21>5j4ifV.09(wj,3hf9<0DDҭ ;RRm9i)" sc’5rraHi)c:#{{ {{c[e̓]`םnb!tY”  Fs2tj!byb\u15r i"/(H{%bŔyovR `N!$@|EYrA ڌ'^L/-)6m]5Xntc1?7V HBD7z5##bĹ`( 355deDHzQU}WW#HBB͘橩K5jq'Q! 5PIlM$`6^rK#4`ean,2d)88Zv_]a]WiS܅7!F%r@-͔1L7JDo+>⋰*J@N ZFW;'W{h D p0' ߱x8)p6kӥ@X ~gn]nJ&h7pn vSЦԾﲑHLCn 6.ۉu9XG*yb \쮽nEd]?V4s=kIt9^{b@` O J]+ULZZtr! E=`AD|Ԣ:QEjѰK2,+&fҲ>r[[ *`m-Ye,?I,*|sN{SpⱱnsGƂin o;$1* Vm6/ ;x,iI 8S 6/-YL a`(ph>/xC3tzn hy_T;#Śm{f"R lP˗ehť|*L)#Ju$k>Z;R%,1U)shRӵVJT"\Xe4Y_酹لiOB<\a:Wj84Ç3׃Z;XQ%鳱Mn+˭kغI nKoli 5_64` 0X [Ll-ۂv`Ekw@'  f`e7لjFp^c?TPf-ǣԳOg ?b[3f$(@?o0JH""aP,{$gDC`ڀRi.i"|6| )d5'C+FUop(X!K#>ЍueRr[ -M{ATM֡D?nQQ>UJs<(OaQ*Ud ~Al-_kabJ`Z~PZˬx8% CG,,.|,Xg-aUHfN:JhU]:ƄM̑#^Y#/q=.UNFvcDa\'ʴInR:6&K|>LuamfQi-5vf,-f^0#сa=Gk1a0R)6T}:YYer^FlS fWŶxq-4l{7_*^J|^cCZT0|k]dLN6v{1R& Sv:4}!a}M_ hVncXMSmgI65Vhx-ЭpD5 QˆD SᲡRrt`6;o>9H4&wa;,>VOw24'U2pJoQAb}PLkHӂi4H7ӜӄέL]/Qp]} 5=,GT|ƣ(5 4~AUp~sAQ*6R Mm]MŪs*a,zR؀&MJ-3Ԝΰ=f[Q?YJ0k\‡M s*2{Z,[JvXSL|fvEtM|Fv MbI:==FpGIƭ L,,R3DCc]1f]ӈȁ%T ~+::"BrC~TuP[[ ֪vtswo|{w3D"a$36z///{>^w_DYQ^ {A`/纈 l Pg8*l]]~{py[3i#/w#Dv{t ,?msH,KE#Nt޹&. )fôb\)@J{)(S-6R8Xvx.Vn3ablXhwA \\vܳx93%4S˾Oʇ;}[̥6I3`NOEcr5QjxZ+tP{xEF%?=q,SbQmO/RWuEK]奮RWyU^*uKE'7\!s$,r0oE1IЎ ^Os [2F bʺcɩdžYY?rA^YE )2}a{jc`&aEq% Bee&4B5VTƳ1Bd.7`cL XpFh]CoC/*&T 5%#bN#T,H)!aʷN;>N7@4٭϶88?S٩t2=,OxBE4Jr^1,ʲ\T?og=0Yl`D.yqQ.em<rRmol#wuqKnuo04/^MVI:hnι^=N+-dK"iv*ie5Gj`ў4]!r]x'sjac}ԧW+LͽR5MM$ \!^Q6)?lm]p6<#%$"ÖsCųeayr*U<%q{\$MXL/ P[弗 F2 ypۖd*0 Y"2ڤFp%ZYuwh͡ZU;/Ϩe#q+ںW鎒; ]2j'v: y|UjnK>}rhc_9b.T],q{ismh쫭Ks֢f5j 15hV\H5Si5$\Em)iSmKdSE8 al-dc+7os5Ĩa'=xW#j)A9H+YH ܙm:iP{$3gM P Y^SYf< ࠼w+뭴t6RO:B?Cr H9Oj5/[x̴Ȇ$u<Vd~%v}8ʹ` L> wF]x0NJRFHΕ0PƎj&ޭi[?pTX,Pl;tlf Wa_`Y?2OXe0Re=H2X3-9ѮW<@oPܐCe;;V. QFhs+0mf@o7iZZvnK6Ru;Tng-Z< ?ڳQy-N]9ڐsOɵQrN>d;vk"r%(Rt-\7==MM,5bO9tڅ.ؓEiAAm R }D^qz]kκککԬuYt](Isv[~?w:ã?3+S3Q/Iܴ0{('I7'/ąuo^3m|m|KL9sWa{!mLjl׳sEnI.z#xO.?פ:cg=ۮL/|dO4}-o>tO},r^ҏ[#~b?7?׽oϞ?>'obkƿwmcv?[9m_'>ГOMK?+G';?w/~w?G?wpΙħ]W?~{_N$|ןukTWS?^wuir?rã?'?n{ ߋ'> :%on94O%z9W>p__ە{'N_O+G+Z?'/8ڿ;9>s {|>owuŸneCo'p>{җ\{3'xǃ*CW^yק?W7~wcW/y^}k~ѣ|SO=UyOn;1sez;ykau6.Zds炡 mEo+~ǟ/~w{]/Nw/ܝZ9_M͵/Ys;S|gW>{zZxE"ő߿ի.<}|Cow/ sboo~ӷַ凗}wﲛƹG~hja'Jx[__o~sO<؃Igv''n>|G_?o =_=zqV=k>M׾{ŭ?xr?-O<#埽_:t+0|s|ُ1tCϹ[ӷw>_.7_HmˍϾe%/O%f[c fdƖ-,JN "KJ$kߙ!y{Ϲs9{﹧ү"uGSzkmW(Ğ@E .;zG'W:oLUUUB}"&oe<^n 7uGU?)67d{ܹE{ O۷ A#f)>G!SL5(&/6>2ة)؃5Uɇ=pCf-,~.^|f^贓W99q99"_2?{Agjl?2 +Ft#Ÿ5Dqob+=RCߞ>ۮ ǍH 4'KWZ[K~Zy2xpwY7yƜL=;kX9R9 l |1^)m\ԨlARhb;dXCI>^yrVMloƒLAA\! '|[n$Z8XG{>?+`A/1Pl(.Nlt[aJ^ONd F5]m60(QDm#=KN`Kו>J^WݎqiDŽJC!^o0JuyDWR=Mͥan=u\[`ݩ5C/U]s9MƊЬE f;@&=<G!Wo7~R/dvnM'se od Q[ 7Py6zR5yJs0g-v n?uC`];9Gu>A)`l c|𾞌 ,9a3 hle~u􉤍LNݜZG>׌;BAUzf.IO*}ޟ}GkR \$XwF]9Or+8'ZzdJ+R"DP#^'7zXv/;xhŖpGgcb &֎g=U~3 8۴"#G(#'x<5^㸋d{o[[Ͻ z*wAf۾Ʊ.ܽӁ-_ ~X  Td3֫CA%`lG՘oI95)&~*nz(~2.np|i+.ZڟVBHva5EhQ\n/3113U鳋vAKΘ^;5%ͮ~fDĬw{;V\VAw5LL/Nt =odr*N^5=ۅz`ī#. >gbf>;]վ7Wʥ ۰ӑ"ɮmɚ4o]0ݹ/T=_%zotȻS2Kt;Ҕ`qo}_ |đIO.f@^3pec\Ϳ>{U~Onhh9Fwu܄ecO)0{7뗎􎨷']ld`G3+6mT|s&*;C()fgR*QTTQXM>U:8qkⷍ]+i]UܓYc19#tTZsN-ڎ]u.x(nҎܙCi[Mtid'kj5gzCCBBkjmq>sc9@ ۾۶w?~ūn׊<^ud}ۘ2s|2"^oӮ0?%$}&oW7'Q[p[hh-ʎ"n;ph Vܺ.װ^ T#;>#caK[g];Z35 sm }FAMȷK Ww⯝|"ysvtD!ܝ5:`t/fT{4mGDTrUM$6a⩘Fj=gOHtS`>{H¦N5A;ʳm?M-hERi@>:t.5xpߊrn9B}DBz!W%Ϳc\$ӁbTgW ,;KK U1Y](!訏^_ϻwE5vlMW+BPr%{RRMRm+t1ԕ.G$]D>g0 r/z2|'TYK hrOV‹3:q?ʖDUv V^gtݦ>&!Wt]vkbOtxpz2!yp]IŰRgGo߳$O06X,!yŠ}_^a-n? ݬimM_n솬{NI}[lXQ'W -} S^w7N`xX!U?tdr޳7s(M3O]xFehky|{i6=\!6S8Qϰ ;rt8`$<$opΞ{]bEcͦgr?Dm`堞n/RܰCU䔬+Joa`L͞<A̰yYqbI[E L7Fht)zbo~aC}Ŧ}jgs TX م}.v 59nMh2V֏lE>og2p~n,qus\1jZe T{sW-"WSД>- yZ,љc-,^9*}6NJX!xkE 릓ˍ|WQ׻69,V}E=>cI5k7.4lЫ569}^[8ʭDv-P`3^ƭ9O4ѴN oNwc8/"'=|mWO1[SG/X|6csdע1Pu*X Q&L@邳cyG%5qJz-%P޶2/lo-hCO>=]boM|4L5wQ3]0AsԹnWs[N3)5<>픘~faIdzϒ;[ޔJkss)ˌ>L#7#i(1jb)o^HVeڡ8d빇cΑ7/ix|ﴪOo  I}?OO㜜KThs{ӧwPۉp޿e :nɜ7\qֵvC; ]}ʵ^phR_s|S1'oօ. ?NCq'nkBRk; }Qp뚈T^f|}&&߁0ֱk[nvh3[7RPOS49|Zmћ=.2uN~̖<y{7RUWWaxJ7VDo+O݃83Z训0qrHIQT <Oj"[fwptgYqjN]9>h7zak lz*}y4ͥmWf_+p9z] nR~g3٫ >9"MML7xƽQ6RwPSJNБk/d9ד}4u;s۴iNƟ};:_ڵ9d%WEѧ=YKޫ%lP˨ޡy=E~`cM#=btґIbS]~O/'wӫ=\=sy4~ٖ#_ l3NǴiƒ6-;w[j_ܥTi]n6; 5׈n&GOo 5i.6^ut@َu\^'ÜVe9vYE@E݅I[](q+>ӥQÎtOi>r}mk6:=AdYG;I&jV?>b{N%7Wuvceʱ|foۅkÿ|.k;7w s5ʛkYv{]@u[}sdZ(W}׫S37|yNr{9VN o PIX.dUvGn (SU>ؠs=awu"Χϼޱ(8uoxdކE._z)=DyaeEZ&+QWi݆"h/)\r_»O;G5TUwznkN$G' 1\t7}nYYڇw9&5u2O,|BVi&txyyy ܶQKʋƍo`'„;G_lix`Q!M@%a4jWV̮io׸,$@`gަ|EuS}x#r}vȹ# [YUwVI:W7_8wXR"t?A"cWZ͉kZ2Ъڿ{f=YMal^u=Qt[ɳ? KI69zN\7tޡ۹W05~r ]LKi(|.bwp(P{V֘6u ݽ/ɍ<[5 P}lQ ! ^3+Ywǧ)(XyhD.7Dԧ i}bͧ YϏeI oK/a,t׺f*veg6<ĺ}HD8/֏CgЪVlpǒL>XڲVĕ=E²1! H6WX̋V;jߕ$wn-\Y*|bv!ߓ+>ߪwRŤĤO|vCn$@ĸEo'“߀x*˲PtG9`h0DAU G ޳G1@E "XACC"7V5GB U}PTWYS|Qx4H") 6f 1 $x1HR̩Γxe#'[! `I2xH'I|IދLU1`.ĐMx4t`,1/,C&! dExRX,@=';&0Xrԫ;{I>cY $p0 |u;=Ab8, x'7 PHRPqzƺ*A$##0SFH2xH8no4 L2@ډ"°2ddt 0~ !ErpVgnF2H>Sx. r`0gJj TE,1B(.pfl K X4[0*b<"kfF;]eզp3Aj#Y([m _L+C@WY/~VG 0I?63((88_/əɒ)0>M0d |ta'ӺwTJOGb\(4_O q!zJ3MTv[ܶ@bhaі?%_6ٟ4ߥ(4+7rl_VM]rG,ZvaCaFQWoLo <[ UX`*g4]u[zCYlZK궕-ymKіt}6}~|=ʣmmpCEL; n,+dn)C~jߘ:YHQReMWTsl5R}M5"v(JH{K<,;~&JgԫYmIQѦcxXJЃz*z-sFD@~E,_M}!k:x)skˣ߯nζ.ZԴݩU*>HQ_XLYRXc %Z?,7ZXAU~/T3DLaN߽ZB)`s$[<*B5/׻`h+l޴;ydTQ천DDgܞ @R^Rg{>nqE}J4s[LJˉrrnWwP"N˶y ^h˫{$:4/+!8_,M9ܨN"5waWXIB]K%qYO 3s8 JAZ٫mK ,B;߿n:W6%X8(ffStH#{æjitPZ1Up+_.> }Z}L/!iepu|Pn19^0ςiu|Heh(ŧ{[&YY'Ln5sp=[зBCUsG R0M{>/+P>{/ebbꙜxBy"ӻ _:%cM9U$U ;7?+?|wϪ}kn4yBB$[Bc5=3W-n}3[ 8ϼam1x6$mlaM1\ 6ù[uu։ӷvEǻp;S7ڶ;:Lda9?syAI酧QbL:vEaAZ'zǚڴ< j'L&ю4F㊼t4QcArZhpSwʕ.Iɽտ3cA|}l/C##Ύ3v[E'H]V P_4gr'UYiDeυ,JJ֕hSHsOpyjAȆ!R8عe7SӮgPU!>$ӂB<δaX@F'7;1| NJ] \.t7ͣ퓹B^Fasu>?gler~eũ e&#/N}ė} pwwq2!30%;BYLp,pkLp6.'O}.hsWuik/vy_5i] 1Ey]xm@aU){Ȅxoﶢ yEdגS1 ڴn+gH[*}qq[єʥHAo=QV<;~{xˋ^TEɢ%EE~_nny۶jֹreuLӃ"l\oXEx\_XvW{HLHग़lxJeٛݬcaiy͆ō,9.o ϔ]tggHgo_ma` &#U֙ /pQ)Y4^we l6֡m4U6 &P7J]p8h[h9\y-"D1*lj6qaSY*~(7{F]@-A7o~1ڠA޴k:޸:O2\&vp舑߸39G].OqRHq}lM|sMqiMpcL'^&4VWrfvw¡wg(W>q]1`?!valwF<Rqǁ4W֙^Yfafͩݷ01Yj=$5;ݾ >%sK.}㹪]ٙ@d*m[ :-:~ "…ijn+<}?hM"Msۣ7f92( 4kcy?=ŗdJq#@ IGl7%llrx?W>^.dV| OCf*Ů|Vߓ{җ3F"Ige;Rq5-)2Wv6k?;-{?,Z՚v].4cD>Q~67//H׸E@э,-n\")xå>KI]H=רyHO4CsQ=*S'V%Sq6VxW1e:Ir+3')0^Lᐆ;r^Uqa됞*;~_7Q[Rt `SnmyQi+La}&"XBmN{t⍢4cO^fUzEi̒ϾWky7+!m8$td% M=OY鎧h{5٧H@gE[kj_4m%سʸة'C+g:(v? *,$'oZ;goXY+%F똵J=΢e;V/:K^=B;j 0eYk{uV-M'FGzFߨ_} ȯwݑﱶCU1BU劫َCf"89o\k5VyGQ\]K_yusuS77'o ܝ~p=s!?Ӊ{TR ]ϝRt2؁iƻ{KSêzW}ӷ>rLM>b_z]4]-x\vw)DWڌ5Wubc1[#F9[7Ef!/N:3?v*>O)PU^?Қ,lR3UJ͇p@@dFWRU KӧO_6;B1#u3r5 ƇG[E߭vzڑ7r4N uw?RV^|>$ 5m;p{^>].1d9!eέ4ݢC=sZCh}[7T@֌TZٶQ$AY//]͠b/#jgYGheMκ(4=:Lк/4%*PgƍbNKΧw'\$-NZQb²%.\!Wb6qr=Eq&{޴pVH,uRZrnO4^FEEQ_aWQ64z1vdhxNv=gZ%!c̱cÐܽMN<ɸWnn)rΦe_НxQ+E.:::vNδ@c i_7Na`=uQQ+<' '-z 5p/`M`8gsB\gfkLk[ n@'Y\OMc8):7!i^؋HjUUՎ{N XߵhrnnY P|<ԍI®GK޾=2x{-zcqg7몫Ѻ=e>树;ݶ'˂{~|9#(V!rY&X(5c斧'ޔk256669s_tAW\hlΪ Qqήvm{ox]3Ś{qn?!RSVWj#UW{ZHF\Ũ݋ t[t&=hv}XT*|DԺ1 >j]U6z*b'apMiԁ/reCҡH֛3s瑟,[8JVñB[Zߛ j4kyu XpQay[-FųoFj }Fv?;u+~/+zZ7)K3OKZcj4X a\mBW&atJHJLjA9@Щ?|tᝉp/_X20`G>`ar31٨ )s'2rt$fGG!%;1n~< ƣ=1N #hyk WJJx;ڲ h_0 ㌕ǝў`# qr{t` 8y䪇8.X|}Bih'ONy8lsɹCVž(G#x$"?SEȀ D p{ f`c3ڑ D'ʋ[ 2K =1n(?aQH=PD>f 9c$̑Mc F-R ptlG]¯\4dJݢHJѵ9} dDTx!ƂGh`y-rmbJof*w{/w|HCh?aqW/\z,IrV~ 0R#o3JK"<:a%8e_.)HR_xbcW<\ D/<D~3;I5Dǯ_eڎ!)G%Tݭ.+۶k_Պ/5hǥNJr+"mj$L^aqh7Nj˖|?C\%IDxbk `W|[nח;э$Pv֗l z3W=Y$~οl#GbEGp{?D (,6lr}să",M ]5[}ia3Vſ_]AI,{2ЊGn`my9h?_^TWl#'".h 'A=+rIws !0e ?Țd,[ #71_|G~@YC~Ki!_[?j1o_xc#.+K@?鉟!Z (o| V:qp1 ,:`a1)Z)5ee`YNX5`꺸Zk+g>/YX ?.7dƐ,1[ j\xI7.e]'S]5N܏+u%G cH+aAP&!x؂`.<@@!q~r-8b X{pAuHoK~)21^[*i~K^V_r֨ZȆMd1*]Z^@M|w8IKU 6nqqk?pK h_=e_![URHJ rn`X[Mu[uUe$(nhDʋ kT\9?']UM_wS[Țyח@\&h_?gu kmᏠeZeVg_pY$bD(mǿ3QVQ%D\ОXe5=0 +߬"~_PbBS?:.>72R|Me[-w$SC^j {/I"KB ? kQ.P#.\8*X# X䲟{p)/ꢙb/~?C_Mk/k Da$TrrߓM;Yv%+A*x@k-ZEˉ]2q5U"Z#w 72pq"++A+|j/QL.ZNb(!$Hoɵ~G?Ko0apIҺ xe5(@1X ȥ_Qe}%e N"tH][e8LuU 0jeW,`?C_'xMk,kўG\.J,K, UaKpVT\b%pXb@D$.Drߑϒ+I\Yq ]\x4KV*knm>,JO+W#Kgu,`K%:k_`@cׂtw2RWZ!t- ,XK%dXXpI3"/$aKN wAa  ^yZaiטWraeLO! Օ )UD_!o?A|#j7@9hy`p!a(BQֶK0K9w~Sa)3)=|d|`c"F< 3Q~Nb{ݫOI-7>3)A~ ;հV8 "+_βl(~G˦#'GF]HYGGBLU!f~j1s%NJq2E: ."lÒVJ?+W!7K G\yM}=b8!P~% 9@; Ar?GRʞAܖ='$nVCVV,}?i%AZ_%DpY^)8l@0{dTW9* Ɂ׊ (o@c(0b ?2qL 7$Zp_yi#J_%d\hrJ%'fZ74kW":JDcv-X/~.:qƻvbxxs O\ߒJ7Y&[y@i2Uh~YaQ+)wk!pK0 ia8K7hj__::rπ?tp竮%5}'=N#pe#ߴt?ՋUy_;5P"j&~i3 /c ][1dQizxrwbEPZBkgu_+ We5z)|W+=:R{Z^B Ha(R*rPϾ-^vԓD$n06̈Ǽ#j {1GQ} %l/@E1.hx0s2u1Z4S/nuotXps9}DGoz``DIE !z DGww콞Z뾯}Ex1s=sRk2"ح#3,o#1p!7d~bF|G-_;79d_u %sVF3g>Y.T\|1wbՙdQi'U9*wO& rJ!7;999 m_H~3a5JN[Ҁ85MVe$ & d$P>èWؒw70r={T3%)⡯/Ş/?;MDBBN)lƭ>=3a4JGj͜`Q~ߊtDs ~MJ'33 zrzL:@WVO^ I}j۳+P~:aŗ瀆˺7bvKunByFbeTɅ4jJ~2u* &eo}?xXTu~4)kٟ 7hO<\T@]`8-WwRM2βk; |ٰ^ ^]Bv3Zw@\A\eΫu(rof3QAh_Si <ڙk$h^q^ψB9@͝p3-ˑLf 7hI%"oQ*_ hfUA|8Lwǯ> ;2vnX@ET^lŌ~υ7[BMC3c8(yqIr3$b籫٢ W]HβsxδF02t:3+Txbs8aq7+$W; NM*Y15! dT?@xl<_*ܼ'"Cy'-]o Oe{In8w?4몫6Hԃ[ɼB p8faxoyCU219SI9k0k]j@‡9+,Rc+4e޶&㯕 _D'hM7o~ {UpxC?{ݷyɀ{t+jܼHG!fŰhf̺#OÌ$Juw'ߊr{י˃CgqJ@݇9z^&wЛ+CƃVMh Ʌ9ˆIL R֬xU+ظeVn/źfh $ #WU BQ…T8%;`\$V16Pa5JGZN_HE͈H黛a8OE/BԼ;E\'͘Xg Fmp+`|؞Bpx*9[zrr#kYzyݴx.[qj ^#_;٩Uk.:Tt>Rqa| kĭu@#1Cqߴ{Y%Vsq"NYL|#=f.@m2P'u){Ji&k;f=(2Yp?oh8oR*&'b?j$ YKJlox(D-]@jf>ePpR&m)/<$x/_E~G1B)Mw =GĔ4dVkHyƪB?<銇%jg"/jph; ZāoOm <92k+1HB"? f(Q#Udm•҄$.[rev9k8)\wɣ)y"I H-@ |)~ozʵ) +i) wa'A/QiKiqFp@)FjFxSvęLkL/9ma D%e[3D)F2O[:_^Xta~M_ ^I>"acA-O mYڳO#eGC]Ɉ=cc}!,N1ϫ?H(o/Ai/o9%DV)d<,2yKZqH+n"CE<l kb?O,q!)j͏DxL6ӅasIzQԯîL^[97HQ񿺥}`{[u N4Hs傫vE#(/7>I9a 4W;eJ|bAO:Ja7p)OZѬT;"$)rq1Ql#RO*aa_zasE(-䅬2њZOφ(&DzQBscF6u~ " =Ʒs!5JrVc3)两9?7&s &֪\.DsI)Av{i9_f*JaT=y"% K#w_ec =r~N2:5^rg yaH~'iHVPQ~i1OXG9"WH 8e'""n;l^Ȥo t}~A۵'#˱^Ǭ/6+l7Xm%~z9cG |2X$3=r>t/_,M6it(y!NN' n_ i&+dl݅ Fssdz(TsFԺwp LR َF- ' ăp ,2_xFChsSǕϯ:8Չ.4 T\Q9>uLOç+K B}/ V ˦u2_^Bh2lo Ly y6.D8դHsAtZм8O6}3NPvguG)4I{y})q=_ӿòwIy:ﵱAͩ쉇" z|uVK_;Hϟ!\| h-i ,c8Kgdors",d줏! 辶^:qn›8a޵Bt4ɏm9L[LD\Ȉw}R6bwON)Ʃ,Cz50m:zOȃYp}Љ}dIY00gYj- m|-g>#; (jUˣ% -hS lb#)M1FcIF;4Hi_VWQb:i(|Ǻ%nѓz0U`uqEdLjmpqP|VvX'(!ai+X9lNh 0y;Ǖo%tUXw{bFFF~GqU"H_5`o '4`9+55a,5doI8PrzG:5(5el-xt k@ orRr[ |--T*u!xaoLDNaa@lv 1 f䵍/0Jn+l^HԫO6PH.'H/[~}ghSK]7w g)8)v(H$GPG;>N $G#,B,Ϝ*8+oR_`Ep>]A`MfqM(3ܹ߳MDNS;mggIqRbC$MO]SseAwO֏U3VkÌUvo9} CliQo-D;m k{4=NCqi2"9[\yIB瞶Cl4٨R{/L=$tOPG5=]T 1CE> K8i[4Q|UwAeLGG%Rlf7Q#C}G/ Ӳw]g$[̌:3OQ?,W{Uυuc-~u}&fňI*."Zqy֓.=)ӣzJ CQC ~~pk5ȇ@>_vzZ4R@\Nhk.qlFs5CϏoS[-~fMfv ys,CLϡ7Q)j^LulN'"Q@YܝX5Ҽ*`hnn+1n8>8k5L< nL [z˹K;QGQu~'<oJiY$cbS@*Ԫ,slԎe)Y"RN\'!I[w 2%K˰KD68 r~`CuXUt\{J~S6(U}x2鲵yVnkx˗i:3᥎QguaEowmxxs*'1 ɇU/H+pS3?3,L%m}}qe83{e/jZ*I=)w^;zd>?w~EMΙ==R7ۊRYD¼ j]fjcnЪyexk G>#afP|Q2}00dXD} KNKen_e)߻f"GZI_}4}Q* l7 dmT]>V}U0RTƮ\ƑZb&kd{so}|Y#\g{{{{{В^H