Package: RbowtieCuda Version: 1.0.1 Maintainer: Franck RICHARD MaintainerEmail: franck.richard@winstars.net UnsupportedPlatforms: win, mac GPU_reliance: required