Back to --- experimental! ---
GPU-enabled build/check report for BioC 3.21
Report updated every 6 hours

This page was generated on 2025-07-16 13:45 -0400 (Wed, 16 Jul 2025).

R packages installed on kakapo1


                     LibPath                                          Version   Built
abind                /home/biocbuild/bbs-3.21-bioc-gpu/R/site-library 1.4-8     4.5.1
AnnotationDbi        /home/biocbuild/bbs-3.21-bioc-gpu/R/site-library 1.70.0    4.5.1
askpass              /home/biocbuild/bbs-3.21-bioc-gpu/R/site-library 1.2.1     4.5.1
base64enc            /home/biocbuild/bbs-3.21-bioc-gpu/R/site-library 0.1-3     4.5.1
BH                   /home/biocbuild/bbs-3.21-bioc-gpu/R/site-library 1.87.0-1  4.5.1
Biobase              /home/biocbuild/bbs-3.21-bioc-gpu/R/site-library 2.68.0    4.5.1
BiocBaseUtils        /home/biocbuild/bbs-3.21-bioc-gpu/R/site-library 1.10.0    4.5.1
BiocCheck            /home/biocbuild/bbs-3.21-bioc-gpu/R/site-library 1.44.2    4.5.1
BiocFileCache        /home/biocbuild/bbs-3.21-bioc-gpu/R/site-library 2.16.0    4.5.1
BiocGenerics         /home/biocbuild/bbs-3.21-bioc-gpu/R/site-library 0.54.0    4.5.1
BiocIO               /home/biocbuild/bbs-3.21-bioc-gpu/R/site-library 1.18.0    4.5.1
BiocManager          /home/biocbuild/bbs-3.21-bioc-gpu/R/site-library 1.30.26   4.5.1
BiocParallel         /home/biocbuild/bbs-3.21-bioc-gpu/R/site-library 1.42.1    4.5.1
BiocStyle            /home/biocbuild/bbs-3.21-bioc-gpu/R/site-library 2.36.0    4.5.1
BiocVersion          /home/biocbuild/bbs-3.21-bioc-gpu/R/site-library 3.21.1    4.5.1
biocViews            /home/biocbuild/bbs-3.21-bioc-gpu/R/site-library 1.76.0    4.5.1
Biostrings           /home/biocbuild/bbs-3.21-bioc-gpu/R/site-library 2.76.0    4.5.1
bit                  /home/biocbuild/bbs-3.21-bioc-gpu/R/site-library 4.6.0     4.5.1
bit64                /home/biocbuild/bbs-3.21-bioc-gpu/R/site-library 4.6.0-1   4.5.1
bitops               /home/biocbuild/bbs-3.21-bioc-gpu/R/site-library 1.0-9     4.5.1
blob                 /home/biocbuild/bbs-3.21-bioc-gpu/R/site-library 1.2.4     4.5.1
bookdown             /home/biocbuild/bbs-3.21-bioc-gpu/R/site-library 0.43      4.5.1
brew                 /home/biocbuild/bbs-3.21-bioc-gpu/R/site-library 1.0-10    4.5.1
brio                 /home/biocbuild/bbs-3.21-bioc-gpu/R/site-library 1.1.5     4.5.1
BSgenome             /home/biocbuild/bbs-3.21-bioc-gpu/R/site-library 1.76.0    4.5.1
bslib                /home/biocbuild/bbs-3.21-bioc-gpu/R/site-library 0.9.0     4.5.1
cachem               /home/biocbuild/bbs-3.21-bioc-gpu/R/site-library 1.1.0     4.5.1
callr                /home/biocbuild/bbs-3.21-bioc-gpu/R/site-library 3.7.6     4.5.1
cli                  /home/biocbuild/bbs-3.21-bioc-gpu/R/site-library 3.6.5     4.5.1
clipr                /home/biocbuild/bbs-3.21-bioc-gpu/R/site-library 0.8.0     4.5.1
commonmark           /home/biocbuild/bbs-3.21-bioc-gpu/R/site-library 2.0.0     4.5.1
cpp11                /home/biocbuild/bbs-3.21-bioc-gpu/R/site-library 0.5.2     4.5.1
crayon               /home/biocbuild/bbs-3.21-bioc-gpu/R/site-library 1.5.3     4.5.1
credentials          /home/biocbuild/bbs-3.21-bioc-gpu/R/site-library 2.0.2     4.5.1
curl                 /home/biocbuild/bbs-3.21-bioc-gpu/R/site-library 6.4.0     4.5.1
DBI                  /home/biocbuild/bbs-3.21-bioc-gpu/R/site-library 1.2.3     4.5.1
dbplyr               /home/biocbuild/bbs-3.21-bioc-gpu/R/site-library 2.5.0     4.5.1
DelayedArray         /home/biocbuild/bbs-3.21-bioc-gpu/R/site-library 0.34.1    4.5.1
desc                 /home/biocbuild/bbs-3.21-bioc-gpu/R/site-library 1.4.3     4.5.1
diffobj              /home/biocbuild/bbs-3.21-bioc-gpu/R/site-library 0.3.6     4.5.1
digest               /home/biocbuild/bbs-3.21-bioc-gpu/R/site-library 0.6.37    4.5.1
downlit              /home/biocbuild/bbs-3.21-bioc-gpu/R/site-library 0.4.4     4.5.1
dplyr                /home/biocbuild/bbs-3.21-bioc-gpu/R/site-library 1.1.4     4.5.1
ellipsis             /home/biocbuild/bbs-3.21-bioc-gpu/R/site-library 0.3.2     4.5.1
evaluate             /home/biocbuild/bbs-3.21-bioc-gpu/R/site-library 1.0.4     4.5.1
fansi                /home/biocbuild/bbs-3.21-bioc-gpu/R/site-library 1.0.6     4.5.1
fastmap              /home/biocbuild/bbs-3.21-bioc-gpu/R/site-library 1.2.0     4.5.1
filelock             /home/biocbuild/bbs-3.21-bioc-gpu/R/site-library 1.0.3     4.5.1
fontawesome          /home/biocbuild/bbs-3.21-bioc-gpu/R/site-library 0.5.3     4.5.1
formatR              /home/biocbuild/bbs-3.21-bioc-gpu/R/site-library 1.14      4.5.1
fs                   /home/biocbuild/bbs-3.21-bioc-gpu/R/site-library 1.6.6     4.5.1
futile.logger        /home/biocbuild/bbs-3.21-bioc-gpu/R/site-library 1.4.3     4.5.1
futile.options       /home/biocbuild/bbs-3.21-bioc-gpu/R/site-library 1.0.1     4.5.1
generics             /home/biocbuild/bbs-3.21-bioc-gpu/R/site-library 0.1.4     4.5.1
GenomeInfoDb         /home/biocbuild/bbs-3.21-bioc-gpu/R/site-library 1.44.0    4.5.1
GenomeInfoDbData     /home/biocbuild/bbs-3.21-bioc-gpu/R/site-library 1.2.14    4.5.1
GenomicAlignments    /home/biocbuild/bbs-3.21-bioc-gpu/R/site-library 1.44.0    4.5.1
GenomicFeatures      /home/biocbuild/bbs-3.21-bioc-gpu/R/site-library 1.60.0    4.5.1
GenomicRanges        /home/biocbuild/bbs-3.21-bioc-gpu/R/site-library 1.60.0    4.5.1
gert                 /home/biocbuild/bbs-3.21-bioc-gpu/R/site-library 2.1.5     4.5.1
gh                   /home/biocbuild/bbs-3.21-bioc-gpu/R/site-library 1.5.0     4.5.1
gitcreds             /home/biocbuild/bbs-3.21-bioc-gpu/R/site-library 0.1.2     4.5.1
glue                 /home/biocbuild/bbs-3.21-bioc-gpu/R/site-library 1.8.0     4.5.1
graph                /home/biocbuild/bbs-3.21-bioc-gpu/R/site-library 1.86.0    4.5.1
highr                /home/biocbuild/bbs-3.21-bioc-gpu/R/site-library 0.11      4.5.1
htmltools            /home/biocbuild/bbs-3.21-bioc-gpu/R/site-library 0.5.8.1   4.5.1
htmlwidgets          /home/biocbuild/bbs-3.21-bioc-gpu/R/site-library 1.6.4     4.5.1
httpuv               /home/biocbuild/bbs-3.21-bioc-gpu/R/site-library 1.6.16    4.5.1
httr                 /home/biocbuild/bbs-3.21-bioc-gpu/R/site-library 1.4.7     4.5.1
httr2                /home/biocbuild/bbs-3.21-bioc-gpu/R/site-library 1.2.0     4.5.1
ini                  /home/biocbuild/bbs-3.21-bioc-gpu/R/site-library 0.3.1     4.5.1
IRanges              /home/biocbuild/bbs-3.21-bioc-gpu/R/site-library 2.42.0    4.5.1
jquerylib            /home/biocbuild/bbs-3.21-bioc-gpu/R/site-library 0.1.4     4.5.1
jsonlite             /home/biocbuild/bbs-3.21-bioc-gpu/R/site-library 2.0.0     4.5.1
KEGGREST             /home/biocbuild/bbs-3.21-bioc-gpu/R/site-library 1.48.1    4.5.1
knitr                /home/biocbuild/bbs-3.21-bioc-gpu/R/site-library 1.50      4.5.1
lambda.r             /home/biocbuild/bbs-3.21-bioc-gpu/R/site-library 1.2.4     4.5.1
later                /home/biocbuild/bbs-3.21-bioc-gpu/R/site-library 1.4.2     4.5.1
lifecycle            /home/biocbuild/bbs-3.21-bioc-gpu/R/site-library 1.0.4     4.5.1
magrittr             /home/biocbuild/bbs-3.21-bioc-gpu/R/site-library 2.0.3     4.5.1
MatrixGenerics       /home/biocbuild/bbs-3.21-bioc-gpu/R/site-library 1.20.0    4.5.1
matrixStats          /home/biocbuild/bbs-3.21-bioc-gpu/R/site-library 1.5.0     4.5.1
memoise              /home/biocbuild/bbs-3.21-bioc-gpu/R/site-library 2.0.1     4.5.1
mime                 /home/biocbuild/bbs-3.21-bioc-gpu/R/site-library 0.13      4.5.1
miniUI               /home/biocbuild/bbs-3.21-bioc-gpu/R/site-library 0.1.2     4.5.1
minqa                /home/biocbuild/bbs-3.21-bioc-gpu/R/site-library 1.2.8     4.5.1
openssl              /home/biocbuild/bbs-3.21-bioc-gpu/R/site-library 2.3.3     4.5.1
pillar               /home/biocbuild/bbs-3.21-bioc-gpu/R/site-library 1.11.0    4.5.1
pkgbuild             /home/biocbuild/bbs-3.21-bioc-gpu/R/site-library 1.4.8     4.5.1
pkgconfig            /home/biocbuild/bbs-3.21-bioc-gpu/R/site-library 2.0.3     4.5.1
pkgload              /home/biocbuild/bbs-3.21-bioc-gpu/R/site-library 1.4.0     4.5.1
plogr                /home/biocbuild/bbs-3.21-bioc-gpu/R/site-library 0.2.0     4.5.1
png                  /home/biocbuild/bbs-3.21-bioc-gpu/R/site-library 0.1-8     4.5.1
praise               /home/biocbuild/bbs-3.21-bioc-gpu/R/site-library 1.0.0     4.5.1
prettyunits          /home/biocbuild/bbs-3.21-bioc-gpu/R/site-library 1.2.0     4.5.1
processx             /home/biocbuild/bbs-3.21-bioc-gpu/R/site-library 3.8.6     4.5.1
profvis              /home/biocbuild/bbs-3.21-bioc-gpu/R/site-library 0.4.0     4.5.1
promises             /home/biocbuild/bbs-3.21-bioc-gpu/R/site-library 1.3.3     4.5.1
ps                   /home/biocbuild/bbs-3.21-bioc-gpu/R/site-library 1.9.1     4.5.1
purrr                /home/biocbuild/bbs-3.21-bioc-gpu/R/site-library 1.1.0     4.5.1
R6                   /home/biocbuild/bbs-3.21-bioc-gpu/R/site-library 2.6.1     4.5.1
rappdirs             /home/biocbuild/bbs-3.21-bioc-gpu/R/site-library 0.3.3     4.5.1
RBGL                 /home/biocbuild/bbs-3.21-bioc-gpu/R/site-library 1.84.0    4.5.1
rcmdcheck            /home/biocbuild/bbs-3.21-bioc-gpu/R/site-library 1.4.0     4.5.1
Rcpp                 /home/biocbuild/bbs-3.21-bioc-gpu/R/site-library 1.1.0     4.5.1
RCurl                /home/biocbuild/bbs-3.21-bioc-gpu/R/site-library 1.98-1.17 4.5.1
remotes              /home/biocbuild/bbs-3.21-bioc-gpu/R/site-library 2.5.0     4.5.1
restfulr             /home/biocbuild/bbs-3.21-bioc-gpu/R/site-library 0.0.16    4.5.1
rhdf5                /home/biocbuild/bbs-3.21-bioc-gpu/R/site-library 2.52.1    4.5.1
rhdf5filters         /home/biocbuild/bbs-3.21-bioc-gpu/R/site-library 1.20.0    4.5.1
Rhdf5lib             /home/biocbuild/bbs-3.21-bioc-gpu/R/site-library 1.30.0    4.5.1
Rhtslib              /home/biocbuild/bbs-3.21-bioc-gpu/R/site-library 3.4.0     4.5.1
rJava                /home/biocbuild/bbs-3.21-bioc-gpu/R/site-library 1.0-11    4.5.1
rjson                /home/biocbuild/bbs-3.21-bioc-gpu/R/site-library 0.2.23    4.5.1
rlang                /home/biocbuild/bbs-3.21-bioc-gpu/R/site-library 1.1.6     4.5.1
rmarkdown            /home/biocbuild/bbs-3.21-bioc-gpu/R/site-library 2.29      4.5.1
roxygen2             /home/biocbuild/bbs-3.21-bioc-gpu/R/site-library 7.3.2     4.5.1
rprojroot            /home/biocbuild/bbs-3.21-bioc-gpu/R/site-library 2.1.0     4.5.1
Rsamtools            /home/biocbuild/bbs-3.21-bioc-gpu/R/site-library 2.24.0    4.5.1
RSQLite              /home/biocbuild/bbs-3.21-bioc-gpu/R/site-library 2.4.1     4.5.1
rstudioapi           /home/biocbuild/bbs-3.21-bioc-gpu/R/site-library 0.17.1    4.5.1
rtracklayer          /home/biocbuild/bbs-3.21-bioc-gpu/R/site-library 1.68.0    4.5.1
RUnit                /home/biocbuild/bbs-3.21-bioc-gpu/R/site-library 0.4.33.1  4.5.1
rversions            /home/biocbuild/bbs-3.21-bioc-gpu/R/site-library 2.1.2     4.5.1
rvest                /home/biocbuild/bbs-3.21-bioc-gpu/R/site-library 1.0.4     4.5.1
S4Arrays             /home/biocbuild/bbs-3.21-bioc-gpu/R/site-library 1.8.1     4.5.1
S4Vectors            /home/biocbuild/bbs-3.21-bioc-gpu/R/site-library 0.46.0    4.5.1
sass                 /home/biocbuild/bbs-3.21-bioc-gpu/R/site-library 0.4.10    4.5.1
selectr              /home/biocbuild/bbs-3.21-bioc-gpu/R/site-library 0.4-2     4.5.1
sessioninfo          /home/biocbuild/bbs-3.21-bioc-gpu/R/site-library 1.2.3     4.5.1
shiny                /home/biocbuild/bbs-3.21-bioc-gpu/R/site-library 1.11.1    4.5.1
snow                 /home/biocbuild/bbs-3.21-bioc-gpu/R/site-library 0.4-4     4.5.1
sourcetools          /home/biocbuild/bbs-3.21-bioc-gpu/R/site-library 0.1.7-1   4.5.1
SparseArray          /home/biocbuild/bbs-3.21-bioc-gpu/R/site-library 1.8.0     4.5.1
stringdist           /home/biocbuild/bbs-3.21-bioc-gpu/R/site-library 0.9.15    4.5.1
stringi              /home/biocbuild/bbs-3.21-bioc-gpu/R/site-library 1.8.7     4.5.1
stringr              /home/biocbuild/bbs-3.21-bioc-gpu/R/site-library 1.5.1     4.5.1
SummarizedExperiment /home/biocbuild/bbs-3.21-bioc-gpu/R/site-library 1.38.1    4.5.1
sys                  /home/biocbuild/bbs-3.21-bioc-gpu/R/site-library 3.4.3     4.5.1
systemfonts          /home/biocbuild/bbs-3.21-bioc-gpu/R/site-library 1.2.3     4.5.1
testthat             /home/biocbuild/bbs-3.21-bioc-gpu/R/site-library 3.2.3     4.5.1
tibble               /home/biocbuild/bbs-3.21-bioc-gpu/R/site-library 3.3.0     4.5.1
tidyr                /home/biocbuild/bbs-3.21-bioc-gpu/R/site-library 1.3.1     4.5.1
tidyselect           /home/biocbuild/bbs-3.21-bioc-gpu/R/site-library 1.2.1     4.5.1
tinytex              /home/biocbuild/bbs-3.21-bioc-gpu/R/site-library 0.57      4.5.1
UCSC.utils           /home/biocbuild/bbs-3.21-bioc-gpu/R/site-library 1.4.0     4.5.1
urlchecker           /home/biocbuild/bbs-3.21-bioc-gpu/R/site-library 1.0.1     4.5.1
usethis              /home/biocbuild/bbs-3.21-bioc-gpu/R/site-library 3.1.0     4.5.1
utf8                 /home/biocbuild/bbs-3.21-bioc-gpu/R/site-library 1.2.6     4.5.1
VariantAnnotation    /home/biocbuild/bbs-3.21-bioc-gpu/R/site-library 1.54.1    4.5.1
vctrs                /home/biocbuild/bbs-3.21-bioc-gpu/R/site-library 0.6.5     4.5.1
waldo                /home/biocbuild/bbs-3.21-bioc-gpu/R/site-library 0.6.2     4.5.1
whisker              /home/biocbuild/bbs-3.21-bioc-gpu/R/site-library 0.4.1     4.5.1
withr                /home/biocbuild/bbs-3.21-bioc-gpu/R/site-library 3.0.2     4.5.1
xfun                 /home/biocbuild/bbs-3.21-bioc-gpu/R/site-library 0.52      4.5.1
XML                  /home/biocbuild/bbs-3.21-bioc-gpu/R/site-library 3.99-0.18 4.5.1
xml2                 /home/biocbuild/bbs-3.21-bioc-gpu/R/site-library 1.3.8     4.5.1
xopen                /home/biocbuild/bbs-3.21-bioc-gpu/R/site-library 1.0.1     4.5.1
xtable               /home/biocbuild/bbs-3.21-bioc-gpu/R/site-library 1.8-4     4.5.1
XVector              /home/biocbuild/bbs-3.21-bioc-gpu/R/site-library 0.48.0    4.5.1
yaml                 /home/biocbuild/bbs-3.21-bioc-gpu/R/site-library 2.3.10    4.5.1
zip                  /home/biocbuild/bbs-3.21-bioc-gpu/R/site-library 2.3.3     4.5.1
base                 /home/biocbuild/bbs-3.21-bioc-gpu/R/library      4.5.1     4.5.1
boot                 /home/biocbuild/bbs-3.21-bioc-gpu/R/library      1.3-31    4.5.1
class                /home/biocbuild/bbs-3.21-bioc-gpu/R/library      7.3-23    4.5.1
cluster              /home/biocbuild/bbs-3.21-bioc-gpu/R/library      2.1.8.1   4.5.1
codetools            /home/biocbuild/bbs-3.21-bioc-gpu/R/library      0.2-20    4.5.1
compiler             /home/biocbuild/bbs-3.21-bioc-gpu/R/library      4.5.1     4.5.1
datasets             /home/biocbuild/bbs-3.21-bioc-gpu/R/library      4.5.1     4.5.1
foreign              /home/biocbuild/bbs-3.21-bioc-gpu/R/library      0.8-90    4.5.1
graphics             /home/biocbuild/bbs-3.21-bioc-gpu/R/library      4.5.1     4.5.1
grDevices            /home/biocbuild/bbs-3.21-bioc-gpu/R/library      4.5.1     4.5.1
grid                 /home/biocbuild/bbs-3.21-bioc-gpu/R/library      4.5.1     4.5.1
KernSmooth           /home/biocbuild/bbs-3.21-bioc-gpu/R/library      2.23-26   4.5.1
lattice              /home/biocbuild/bbs-3.21-bioc-gpu/R/library      0.22-7    4.5.1
MASS                 /home/biocbuild/bbs-3.21-bioc-gpu/R/library      7.3-65    4.5.1
Matrix               /home/biocbuild/bbs-3.21-bioc-gpu/R/library      1.7-3     4.5.1
methods              /home/biocbuild/bbs-3.21-bioc-gpu/R/library      4.5.1     4.5.1
mgcv                 /home/biocbuild/bbs-3.21-bioc-gpu/R/library      1.9-3     4.5.1
nlme                 /home/biocbuild/bbs-3.21-bioc-gpu/R/library      3.1-168   4.5.1
nnet                 /home/biocbuild/bbs-3.21-bioc-gpu/R/library      7.3-20    4.5.1
parallel             /home/biocbuild/bbs-3.21-bioc-gpu/R/library      4.5.1     4.5.1
rpart                /home/biocbuild/bbs-3.21-bioc-gpu/R/library      4.1.24    4.5.1
spatial              /home/biocbuild/bbs-3.21-bioc-gpu/R/library      7.3-18    4.5.1
splines              /home/biocbuild/bbs-3.21-bioc-gpu/R/library      4.5.1     4.5.1
stats                /home/biocbuild/bbs-3.21-bioc-gpu/R/library      4.5.1     4.5.1
stats4               /home/biocbuild/bbs-3.21-bioc-gpu/R/library      4.5.1     4.5.1
survival             /home/biocbuild/bbs-3.21-bioc-gpu/R/library      3.8-3     4.5.1
tcltk                /home/biocbuild/bbs-3.21-bioc-gpu/R/library      4.5.1     4.5.1
tools                /home/biocbuild/bbs-3.21-bioc-gpu/R/library      4.5.1     4.5.1
utils                /home/biocbuild/bbs-3.21-bioc-gpu/R/library      4.5.1     4.5.1