Package: RbowtieCuda Version: 1.2.0 Command: /home/biocbuild/bbs-3.22-bioc/R/bin/R CMD INSTALL RbowtieCuda StartedAt: 2025-11-02 04:35:57 -0000 (Sun, 02 Nov 2025) EndedAt: 2025-11-02 04:42:42 -0000 (Sun, 02 Nov 2025) EllapsedTime: 404.4 seconds RetCode: 0 Status: OK