Package: RbowtieCuda Version: 1.2.0 Command: /home/biocbuild/bbs-3.22-bioc/R/bin/R CMD check --install=check:RbowtieCuda.install-out.txt --library=/home/biocbuild/bbs-3.22-bioc/R/site-library --timings RbowtieCuda_1.2.0.tar.gz StartedAt: 2025-11-02 05:01:17 -0000 (Sun, 02 Nov 2025) EndedAt: 2025-11-02 05:02:13 -0000 (Sun, 02 Nov 2025) EllapsedTime: 56.0 seconds RetCode: 0 Status: OK CheckDir: RbowtieCuda.Rcheck Warnings: 0