Package: RbowtieCuda Version: 1.2.0 Command: /home/biocbuild/bbs-3.22-bioc/R/bin/R CMD build --keep-empty-dirs --no-resave-data RbowtieCuda StartedAt: 2025-11-02 04:44:43 -0000 (Sun, 02 Nov 2025) EndedAt: 2025-11-02 04:51:01 -0000 (Sun, 02 Nov 2025) EllapsedTime: 377.4 seconds RetCode: 0 Status: OK PackageFile: RbowtieCuda_1.2.0.tar.gz PackageFileSize: 29.16 MiB