RbowtieCuda#biocgpu#install: OK RbowtieCuda#biocgpu#buildsrc: OK RbowtieCuda#biocgpu#checksrc: OK