Package: zitools Version: 1.2.0 Command: /home/biocbuild/bbs-3.21-bioc/R/bin/R CMD build --keep-empty-dirs --no-resave-data zitools StartedAt: 2025-10-15 20:34:09 -0400 (Wed, 15 Oct 2025) EndedAt: 2025-10-15 20:35:48 -0400 (Wed, 15 Oct 2025) EllapsedTime: 99.5 seconds RetCode: 0 Status: OK PackageFile: zitools_1.2.0.tar.gz PackageFileSize: 251.9 KiB