Package: zinbwave Version: 1.30.0 Command: /home/biocbuild/bbs-3.21-bioc/R/bin/R CMD check --install=check:zinbwave.install-out.txt --library=/home/biocbuild/bbs-3.21-bioc/R/site-library --timings zinbwave_1.30.0.tar.gz StartedAt: 2025-10-16 04:54:32 -0400 (Thu, 16 Oct 2025) EndedAt: 2025-10-16 05:00:47 -0400 (Thu, 16 Oct 2025) EllapsedTime: 375.4 seconds RetCode: 0 Status: OK CheckDir: zinbwave.Rcheck Warnings: 0