Package: zinbwave Version: 1.30.0 Command: /home/biocbuild/bbs-3.21-bioc/R/bin/R CMD build --keep-empty-dirs --no-resave-data zinbwave StartedAt: 2025-10-12 20:36:16 -0400 (Sun, 12 Oct 2025) EndedAt: 2025-10-12 20:38:17 -0400 (Sun, 12 Oct 2025) EllapsedTime: 121.1 seconds RetCode: 0 Status: OK PackageFile: zinbwave_1.30.0.tar.gz PackageFileSize: 488.7 KiB