Package: zinbwave Version: 1.30.0 Command: /Library/Frameworks/R.framework/Resources/bin/R CMD build --keep-empty-dirs --no-resave-data zinbwave StartedAt: 2025-10-10 12:34:01 -0400 (Fri, 10 Oct 2025) EndedAt: 2025-10-10 12:36:31 -0400 (Fri, 10 Oct 2025) EllapsedTime: 150.0 seconds RetCode: 0 Status: OK PackageFile: zinbwave_1.30.0.tar.gz PackageFileSize: 588.9 KiB