Package: zenith Version: 1.11.0 Command: F:\biocbuild\bbs-3.22-bioc\R\bin\R.exe CMD check --no-multiarch --install=check:zenith.install-out.txt --library=F:\biocbuild\bbs-3.22-bioc\R\library --no-vignettes --timings zenith_1.11.0.tar.gz StartedAt: 2025-07-28 08:32:27 -0400 (Mon, 28 Jul 2025) EndedAt: 2025-07-28 08:38:29 -0400 (Mon, 28 Jul 2025) EllapsedTime: 362.0 seconds RetCode: 0 Status: WARNINGS CheckDir: zenith.Rcheck Warnings: 1