Package: zenith Version: 1.12.0 Command: /home/biocbuild/bbs-3.22-bioc/R/bin/R CMD INSTALL zenith StartedAt: 2025-11-09 16:02:43 -0500 (Sun, 09 Nov 2025) EndedAt: 2025-11-09 16:03:24 -0500 (Sun, 09 Nov 2025) EllapsedTime: 40.6 seconds RetCode: 0 Status: OK