Package: zenith Version: 1.12.0 Command: /home/biocbuild/bbs-3.22-bioc/R/bin/R CMD build --keep-empty-dirs --no-resave-data --md5 zenith StartedAt: 2025-11-09 20:58:09 -0500 (Sun, 09 Nov 2025) EndedAt: 2025-11-09 20:59:46 -0500 (Sun, 09 Nov 2025) EllapsedTime: 96.1 seconds RetCode: 0 Status: OK PackageFile: zenith_1.12.0.tar.gz PackageFileSize: 666.8 KiB