Package: zellkonverter Version: 1.20.0 Command: /Library/Frameworks/R.framework/Resources/bin/R CMD INSTALL zellkonverter StartedAt: 2025-11-03 15:27:50 -0500 (Mon, 03 Nov 2025) EndedAt: 2025-11-03 15:28:16 -0500 (Mon, 03 Nov 2025) EllapsedTime: 26.1 seconds RetCode: 0 Status: OK