Package: zellkonverter Version: 1.20.0 Command: /Library/Frameworks/R.framework/Resources/bin/R CMD INSTALL zellkonverter StartedAt: 2025-11-10 15:14:05 -0500 (Mon, 10 Nov 2025) EndedAt: 2025-11-10 15:14:13 -0500 (Mon, 10 Nov 2025) EllapsedTime: 8.2 seconds RetCode: 0 Status: OK