Package: zellkonverter Version: 1.20.0 Command: /Library/Frameworks/R.framework/Resources/bin/R CMD build --keep-empty-dirs --no-resave-data zellkonverter StartedAt: 2025-11-10 18:10:41 -0500 (Mon, 10 Nov 2025) EndedAt: 2025-11-10 18:11:52 -0500 (Mon, 10 Nov 2025) EllapsedTime: 71.2 seconds RetCode: 1 Status: ERROR PackageFile: None PackageFileSize: NA