Package: zellkonverter Version: 1.20.0 Command: /Library/Frameworks/R.framework/Resources/bin/R CMD INSTALL zellkonverter StartedAt: 2025-11-20 17:12:46 -0500 (Thu, 20 Nov 2025) EndedAt: 2025-11-20 17:13:07 -0500 (Thu, 20 Nov 2025) EllapsedTime: 21.6 seconds RetCode: 0 Status: OK