Package: zellkonverter Version: 1.20.0 Maintainer: Luke Zappia MaintainerEmail: luke at lazappi.id.au git_url: https://git.bioconductor.org/packages/zellkonverter git_branch: RELEASE_3_22 git_last_commit: cf55b0f git_last_commit_date: 2025-10-29 11:01:36 -0500 (Wed, 29 Oct 2025)