Package: xmapbridge Version: 1.68.0 Command: /home/biocbuild/R/R/bin/R CMD INSTALL xmapbridge StartedAt: 2025-11-17 21:03:12 -0000 (Mon, 17 Nov 2025) EndedAt: 2025-11-17 21:03:37 -0000 (Mon, 17 Nov 2025) EllapsedTime: 25.0 seconds RetCode: 0 Status: OK