Package: xmapbridge Version: 1.68.0 Command: /home/biocbuild/R/R/bin/R CMD check --install=check:xmapbridge.install-out.txt --library=/home/biocbuild/R/R/site-library --no-vignettes --timings xmapbridge_1.68.0.tar.gz StartedAt: 2025-11-14 16:22:32 -0000 (Fri, 14 Nov 2025) EndedAt: 2025-11-14 16:22:54 -0000 (Fri, 14 Nov 2025) EllapsedTime: 22.0 seconds RetCode: 0 Status: OK CheckDir: xmapbridge.Rcheck Warnings: 0