Package: xmapbridge Version: 1.68.0 Command: /home/biocbuild/R/R/bin/R CMD build --keep-empty-dirs --no-resave-data xmapbridge StartedAt: 2025-11-18 06:12:18 -0000 (Tue, 18 Nov 2025) EndedAt: 2025-11-18 06:12:43 -0000 (Tue, 18 Nov 2025) EllapsedTime: 25.0 seconds RetCode: 0 Status: OK PackageFile: xmapbridge_1.68.0.tar.gz PackageFileSize: 3.014 MiB