Package: xmapbridge Version: 1.66.0 Command: E:\biocbuild\bbs-3.21-bioc\R\bin\R.exe CMD INSTALL xmapbridge StartedAt: 2025-08-14 15:19:08 -0400 (Thu, 14 Aug 2025) EndedAt: 2025-08-14 15:19:29 -0400 (Thu, 14 Aug 2025) EllapsedTime: 21.2 seconds RetCode: 0 Status: OK