Package: xmapbridge Version: 1.66.0 Command: E:\biocbuild\bbs-3.21-bioc\R\bin\R.exe CMD check --no-multiarch --install=check:xmapbridge.install-out.txt --library=E:\biocbuild\bbs-3.21-bioc\R\library --no-vignettes --timings xmapbridge_1.66.0.tar.gz StartedAt: 2025-08-15 08:20:22 -0400 (Fri, 15 Aug 2025) EndedAt: 2025-08-15 08:21:01 -0400 (Fri, 15 Aug 2025) EllapsedTime: 39.1 seconds RetCode: 0 Status: OK CheckDir: xmapbridge.Rcheck Warnings: 0