Package: xmapbridge Version: 1.66.0 Command: chmod a+r xmapbridge -R && E:\biocbuild\bbs-3.21-bioc\R\bin\R.exe CMD build --keep-empty-dirs --no-resave-data xmapbridge StartedAt: 2025-08-14 22:59:47 -0400 (Thu, 14 Aug 2025) EndedAt: 2025-08-14 23:01:06 -0400 (Thu, 14 Aug 2025) EllapsedTime: 79.4 seconds RetCode: 0 Status: OK PackageFile: xmapbridge_1.66.0.tar.gz PackageFileSize: 2.904 MiB