Package: xmapbridge Version: 1.66.0 Command: rm -rf xmapbridge.buildbin-libdir && mkdir xmapbridge.buildbin-libdir && E:\biocbuild\bbs-3.21-bioc\R\bin\R.exe CMD INSTALL --build --library=xmapbridge.buildbin-libdir xmapbridge_1.66.0.tar.gz StartedAt: 2025-08-15 10:35:23 -0400 (Fri, 15 Aug 2025) EndedAt: 2025-08-15 10:35:50 -0400 (Fri, 15 Aug 2025) EllapsedTime: 26.6 seconds RetCode: 0 Status: OK PackageFile: xmapbridge_1.66.0.zip PackageFileSize: 1.649 MiB