Package: xmapbridge Version: 1.68.0 Command: /home/biocbuild/bbs-3.22-bioc/R/bin/R CMD build --keep-empty-dirs --no-resave-data --md5 xmapbridge StartedAt: 2025-11-18 00:16:42 -0500 (Tue, 18 Nov 2025) EndedAt: 2025-11-18 00:17:00 -0500 (Tue, 18 Nov 2025) EllapsedTime: 18.0 seconds RetCode: 0 Status: OK PackageFile: xmapbridge_1.68.0.tar.gz PackageFileSize: 3.02 MiB