Package: xmapbridge Version: 1.66.0 Command: /home/biocbuild/bbs-3.21-bioc/R/bin/R CMD build --keep-empty-dirs --no-resave-data xmapbridge StartedAt: 2025-10-15 20:33:25 -0400 (Wed, 15 Oct 2025) EndedAt: 2025-10-15 20:33:44 -0400 (Wed, 15 Oct 2025) EllapsedTime: 19.0 seconds RetCode: 0 Status: OK PackageFile: xmapbridge_1.66.0.tar.gz PackageFileSize: 3.019 MiB