Package: xmapbridge Version: 1.66.0 Command: /Library/Frameworks/R.framework/Resources/bin/R CMD INSTALL xmapbridge StartedAt: 2025-10-13 15:06:22 -0400 (Mon, 13 Oct 2025) EndedAt: 2025-10-13 15:06:38 -0400 (Mon, 13 Oct 2025) EllapsedTime: 16.2 seconds RetCode: 0 Status: OK